BEGIN:VCALENDAR
VERSION:2.0
PRODID:-//UB-Event
TZID:Europe/Zurich
X-WR-TIMEZONE:Europe/Zurich
CALSCALE:GREGORIAN
BEGIN:VEVENT
SUMMARY:Die Strafe; Chaos BRD und Paveldavelix
UID:233760
DTSTART;TZID=Europe/Zurich;VALUE=DATE-TIME:20260424T210000
DTEND;TZID=Europe/Zurich;VALUE=DATE-TIME:20260424T230000
LAST-MODIFIED;TZID=Europe/Zurich;VALUE=DATE-TIME:20260325T063835
DTSTAMP;VALUE=DATE-TIME:20260424T210000Z
LOCATION:AZ Mülheim, Auerstraße 51, 45468 Mülheim an der Ruhr
URL://www.xn--untergrund-blttle-2qb.ch/events/233760/die-strafe-chaos-brd-und-paveldavelix-az-muelheim-muelheim-an-der-ruhr.html
END:VEVENT
BEGIN:VTIMEZONE
TZID:Europe/Zurich
X-LIC-LOCATION:Europe/Zurich
BEGIN:STANDARD
DTSTART;VALUE=DATE-TIME:20260424T210000
TZNAME:CET
TZOFFSETFROM:+0200
TZOFFSETTO:+0100
END:STANDARD
BEGIN:DAYLIGHT
DTSTART;VALUE=DATE-TIME:20260424T210000
TZNAME:CEST
TZOFFSETFROM:+0100
TZOFFSETTO:+0200
END:DAYLIGHT
BEGIN:STANDARD
DTSTART;VALUE=DATE-TIME:20260424T210000
TZNAME:CET
TZOFFSETFROM:+0200
TZOFFSETTO:+0100
END:STANDARD
END:VTIMEZONE
END:VCALENDAR