BEGIN:VCALENDAR
VERSION:2.0
PRODID:-//UB-Event
TZID:Europe/Zurich
X-WR-TIMEZONE:Europe/Zurich
CALSCALE:GREGORIAN
BEGIN:VEVENT
SUMMARY:THE BIGGER BANG – Nochmal das Universum, einfach viel besser
UID:233751
DTSTART;TZID=Europe/Zurich;VALUE=DATE-TIME:20260619T200000
DTEND;TZID=Europe/Zurich;VALUE=DATE-TIME:20260619T220000
LAST-MODIFIED;TZID=Europe/Zurich;VALUE=DATE-TIME:20260326T055205
DTSTAMP;VALUE=DATE-TIME:20260619T200000Z
LOCATION:Rote Fabrik (Am See), Seestrasse 395, 8038 Zürich
URL://www.xn--untergrund-blttle-2qb.ch/events/233751/the-bigger-bang-nochmal-das-universum-einfach-viel-besser-rote-fabrik-am-see-zuerich.html
END:VEVENT
BEGIN:VTIMEZONE
TZID:Europe/Zurich
X-LIC-LOCATION:Europe/Zurich
BEGIN:STANDARD
DTSTART;VALUE=DATE-TIME:20260619T200000
TZNAME:CET
TZOFFSETFROM:+0200
TZOFFSETTO:+0100
END:STANDARD
BEGIN:DAYLIGHT
DTSTART;VALUE=DATE-TIME:20260619T200000
TZNAME:CEST
TZOFFSETFROM:+0100
TZOFFSETTO:+0200
END:DAYLIGHT
BEGIN:STANDARD
DTSTART;VALUE=DATE-TIME:20260619T200000
TZNAME:CET
TZOFFSETFROM:+0200
TZOFFSETTO:+0100
END:STANDARD
END:VTIMEZONE
END:VCALENDAR