BEGIN:VCALENDAR
VERSION:2.0
PRODID:-//UB-Event
TZID:Europe/Zurich
X-WR-TIMEZONE:Europe/Zurich
CALSCALE:GREGORIAN
BEGIN:VEVENT
SUMMARY:Pedro Sampaio
UID:233743
DTSTART;TZID=Europe/Zurich;VALUE=DATE-TIME:20260612T210000
DTEND;TZID=Europe/Zurich;VALUE=DATE-TIME:20260612T230000
LAST-MODIFIED;TZID=Europe/Zurich;VALUE=DATE-TIME:20260325T062628
DTSTAMP;VALUE=DATE-TIME:20260612T210000Z
LOCATION:X-TRA, Limmatstrasse 118, 8031 Zürich
URL://www.xn--untergrund-blttle-2qb.ch/events/233743/pedro-sampaio-x-tra-zuerich.html
END:VEVENT
BEGIN:VTIMEZONE
TZID:Europe/Zurich
X-LIC-LOCATION:Europe/Zurich
BEGIN:STANDARD
DTSTART;VALUE=DATE-TIME:20260612T210000
TZNAME:CET
TZOFFSETFROM:+0200
TZOFFSETTO:+0100
END:STANDARD
BEGIN:DAYLIGHT
DTSTART;VALUE=DATE-TIME:20260612T210000
TZNAME:CEST
TZOFFSETFROM:+0100
TZOFFSETTO:+0200
END:DAYLIGHT
BEGIN:STANDARD
DTSTART;VALUE=DATE-TIME:20260612T210000
TZNAME:CET
TZOFFSETFROM:+0200
TZOFFSETTO:+0100
END:STANDARD
END:VTIMEZONE
END:VCALENDAR