BEGIN:VCALENDAR
VERSION:2.0
PRODID:-//UB-Event
TZID:Europe/Zurich
X-WR-TIMEZONE:Europe/Zurich
CALSCALE:GREGORIAN
BEGIN:VEVENT
SUMMARY:PETER AUS DER MOZARTSTRASSE ALBUM-RELEASE-SHOW / INDIE-ROCK
UID:233697
DTSTART;TZID=Europe/Zurich;VALUE=DATE-TIME:20260424T210000
DTEND;TZID=Europe/Zurich;VALUE=DATE-TIME:20260424T230000
LAST-MODIFIED;TZID=Europe/Zurich;VALUE=DATE-TIME:20260324T063837
DTSTAMP;VALUE=DATE-TIME:20260424T210000Z
LOCATION:Alte Mälzerei, Galgenbergstraße 20, 93053 Regensburg
URL://www.xn--untergrund-blttle-2qb.ch/events/233697/peter-aus-der-mozartstrasse-album-release-show-indie-rock-alte-maelzerei-regensburg.html
END:VEVENT
BEGIN:VTIMEZONE
TZID:Europe/Zurich
X-LIC-LOCATION:Europe/Zurich
BEGIN:STANDARD
DTSTART;VALUE=DATE-TIME:20260424T210000
TZNAME:CET
TZOFFSETFROM:+0200
TZOFFSETTO:+0100
END:STANDARD
BEGIN:DAYLIGHT
DTSTART;VALUE=DATE-TIME:20260424T210000
TZNAME:CEST
TZOFFSETFROM:+0100
TZOFFSETTO:+0200
END:DAYLIGHT
BEGIN:STANDARD
DTSTART;VALUE=DATE-TIME:20260424T210000
TZNAME:CET
TZOFFSETFROM:+0200
TZOFFSETTO:+0100
END:STANDARD
END:VTIMEZONE
END:VCALENDAR