BEGIN:VCALENDAR
VERSION:2.0
PRODID:-//UB-Event
TZID:Europe/Zurich
X-WR-TIMEZONE:Europe/Zurich
CALSCALE:GREGORIAN
BEGIN:VEVENT
SUMMARY:NASTY RUMOURS Powerpop- / 77-Punkrock-Band aus Bern
UID:233690
DTSTART;TZID=Europe/Zurich;VALUE=DATE-TIME:20260424T210000
DTEND;TZID=Europe/Zurich;VALUE=DATE-TIME:20260424T230000
LAST-MODIFIED;TZID=Europe/Zurich;VALUE=DATE-TIME:20260324T063837
DTSTAMP;VALUE=DATE-TIME:20260424T210000Z
LOCATION:Kulturquartier Allgäuhalle, Kotterner Strasse 54, 87435 Kempten
URL://www.xn--untergrund-blttle-2qb.ch/events/233690/nasty-rumours-powerpop-77-punkrock-band-aus-bern-kulturquartier-allgaeuhalle-kempten.html
END:VEVENT
BEGIN:VTIMEZONE
TZID:Europe/Zurich
X-LIC-LOCATION:Europe/Zurich
BEGIN:STANDARD
DTSTART;VALUE=DATE-TIME:20260424T210000
TZNAME:CET
TZOFFSETFROM:+0200
TZOFFSETTO:+0100
END:STANDARD
BEGIN:DAYLIGHT
DTSTART;VALUE=DATE-TIME:20260424T210000
TZNAME:CEST
TZOFFSETFROM:+0100
TZOFFSETTO:+0200
END:DAYLIGHT
BEGIN:STANDARD
DTSTART;VALUE=DATE-TIME:20260424T210000
TZNAME:CET
TZOFFSETFROM:+0200
TZOFFSETTO:+0100
END:STANDARD
END:VTIMEZONE
END:VCALENDAR