BEGIN:VCALENDAR
VERSION:2.0
PRODID:-//UB-Event
TZID:Europe/Zurich
X-WR-TIMEZONE:Europe/Zurich
CALSCALE:GREGORIAN
BEGIN:VEVENT
SUMMARY:Myles Smith
UID:233533
DTSTART;TZID=Europe/Zurich;VALUE=DATE-TIME:20261014T210000
DTEND;TZID=Europe/Zurich;VALUE=DATE-TIME:20261014T230000
LAST-MODIFIED;TZID=Europe/Zurich;VALUE=DATE-TIME:20260324T060711
DTSTAMP;VALUE=DATE-TIME:20261014T210000Z
LOCATION:The Hall, Hoffnigstrasse 1, 8600 Dübendorf
URL://www.xn--untergrund-blttle-2qb.ch/events/233533/myles-smith-the-hall-duebendorf.html
END:VEVENT
BEGIN:VTIMEZONE
TZID:Europe/Zurich
X-LIC-LOCATION:Europe/Zurich
BEGIN:STANDARD
DTSTART;VALUE=DATE-TIME:20261014T210000
TZNAME:CET
TZOFFSETFROM:+0200
TZOFFSETTO:+0100
END:STANDARD
BEGIN:DAYLIGHT
DTSTART;VALUE=DATE-TIME:20261014T210000
TZNAME:CEST
TZOFFSETFROM:+0100
TZOFFSETTO:+0200
END:DAYLIGHT
BEGIN:STANDARD
DTSTART;VALUE=DATE-TIME:20261014T210000
TZNAME:CET
TZOFFSETFROM:+0200
TZOFFSETTO:+0100
END:STANDARD
END:VTIMEZONE
END:VCALENDAR