BEGIN:VCALENDAR
VERSION:2.0
PRODID:-//UB-Event
TZID:Europe/Zurich
X-WR-TIMEZONE:Europe/Zurich
CALSCALE:GREGORIAN
BEGIN:VEVENT
SUMMARY:BWSLAM26: U20-Finale
UID:233422
DTSTART;TZID=Europe/Zurich;VALUE=DATE-TIME:20260523T160000
DTEND;TZID=Europe/Zurich;VALUE=DATE-TIME:20260523T180000
LAST-MODIFIED;TZID=Europe/Zurich;VALUE=DATE-TIME:20260324T054843
DTSTAMP;VALUE=DATE-TIME:20260523T160000Z
LOCATION:KOHI Kulturraum e.V., Werderstraße, 76137 Karlsruhe
URL://www.xn--untergrund-blttle-2qb.ch/events/233422/bwslam26-u20-finale-kohi-kulturraum-e-v-karlsruhe.html
END:VEVENT
BEGIN:VTIMEZONE
TZID:Europe/Zurich
X-LIC-LOCATION:Europe/Zurich
BEGIN:STANDARD
DTSTART;VALUE=DATE-TIME:20260523T160000
TZNAME:CET
TZOFFSETFROM:+0200
TZOFFSETTO:+0100
END:STANDARD
BEGIN:DAYLIGHT
DTSTART;VALUE=DATE-TIME:20260523T160000
TZNAME:CEST
TZOFFSETFROM:+0100
TZOFFSETTO:+0200
END:DAYLIGHT
BEGIN:STANDARD
DTSTART;VALUE=DATE-TIME:20260523T160000
TZNAME:CET
TZOFFSETFROM:+0200
TZOFFSETTO:+0100
END:STANDARD
END:VTIMEZONE
END:VCALENDAR