BEGIN:VCALENDAR
VERSION:2.0
PRODID:-//UB-Event
TZID:Europe/Zurich
X-WR-TIMEZONE:Europe/Zurich
CALSCALE:GREGORIAN
BEGIN:VEVENT
SUMMARY:Internationaler Treff von Nachkommen Verfolgter des Faschismus
UID:233217
DTSTART;TZID=Europe/Zurich;VALUE=DATE-TIME:20260614T130000
DTEND;TZID=Europe/Zurich;VALUE=DATE-TIME:20260614T150000
LAST-MODIFIED;TZID=Europe/Zurich;VALUE=DATE-TIME:20260321T061249
DTSTAMP;VALUE=DATE-TIME:20260614T130000Z
LOCATION:Brotfabrik, Bachmannstraße 2-4, 60486 Frankfurt am Main
URL://www.xn--untergrund-blttle-2qb.ch/events/233217/internationaler-treff-von-nachkommen-verfolgter-des-faschismus-brotfabrik-frankfurt-am-main.html
END:VEVENT
BEGIN:VTIMEZONE
TZID:Europe/Zurich
X-LIC-LOCATION:Europe/Zurich
BEGIN:STANDARD
DTSTART;VALUE=DATE-TIME:20260614T130000
TZNAME:CET
TZOFFSETFROM:+0200
TZOFFSETTO:+0100
END:STANDARD
BEGIN:DAYLIGHT
DTSTART;VALUE=DATE-TIME:20260614T130000
TZNAME:CEST
TZOFFSETFROM:+0100
TZOFFSETTO:+0200
END:DAYLIGHT
BEGIN:STANDARD
DTSTART;VALUE=DATE-TIME:20260614T130000
TZNAME:CET
TZOFFSETFROM:+0200
TZOFFSETTO:+0100
END:STANDARD
END:VTIMEZONE
END:VCALENDAR