BEGIN:VCALENDAR
VERSION:2.0
PRODID:-//UB-Event
TZID:Europe/Zurich
X-WR-TIMEZONE:Europe/Zurich
CALSCALE:GREGORIAN
BEGIN:VEVENT
SUMMARY:Befreiung vom Faschismus – Gedenken an die sowjetischen Opfer
UID:233215
DTSTART;TZID=Europe/Zurich;VALUE=DATE-TIME:20260509T110000
DTEND;TZID=Europe/Zurich;VALUE=DATE-TIME:20260509T130000
LAST-MODIFIED;TZID=Europe/Zurich;VALUE=DATE-TIME:20260321T061241
DTSTAMP;VALUE=DATE-TIME:20260509T110000Z
LOCATION:Hauptfriedhof Altes Portal, Eckenheimer Landstraße, 60320 Frankfurt am Main
URL://www.xn--untergrund-blttle-2qb.ch/events/233215/befreiung-vom-faschismus-gedenken-an-die-sowjetischen-opfer-hauptfriedhof-altes-portal-frankfurt-am-main.html
END:VEVENT
BEGIN:VTIMEZONE
TZID:Europe/Zurich
X-LIC-LOCATION:Europe/Zurich
BEGIN:STANDARD
DTSTART;VALUE=DATE-TIME:20260509T110000
TZNAME:CET
TZOFFSETFROM:+0200
TZOFFSETTO:+0100
END:STANDARD
BEGIN:DAYLIGHT
DTSTART;VALUE=DATE-TIME:20260509T110000
TZNAME:CEST
TZOFFSETFROM:+0100
TZOFFSETTO:+0200
END:DAYLIGHT
BEGIN:STANDARD
DTSTART;VALUE=DATE-TIME:20260509T110000
TZNAME:CET
TZOFFSETFROM:+0200
TZOFFSETTO:+0100
END:STANDARD
END:VTIMEZONE
END:VCALENDAR