BEGIN:VCALENDAR
VERSION:2.0
PRODID:-//UB-Event
TZID:Europe/Zurich
X-WR-TIMEZONE:Europe/Zurich
CALSCALE:GREGORIAN
BEGIN:VEVENT
SUMMARY:Tag der Befreiung vom Faschismus 2026
UID:233214
DTSTART;TZID=Europe/Zurich;VALUE=DATE-TIME:20260508T150000
DTEND;TZID=Europe/Zurich;VALUE=DATE-TIME:20260508T170000
LAST-MODIFIED;TZID=Europe/Zurich;VALUE=DATE-TIME:20260321T061240
DTSTAMP;VALUE=DATE-TIME:20260508T150000Z
LOCATION:Paulsplatz, Paulsplatz, 60311 Frankfurt am Main
URL://www.xn--untergrund-blttle-2qb.ch/events/233214/tag-der-befreiung-vom-faschismus-2026-paulsplatz-frankfurt-am-main.html
END:VEVENT
BEGIN:VTIMEZONE
TZID:Europe/Zurich
X-LIC-LOCATION:Europe/Zurich
BEGIN:STANDARD
DTSTART;VALUE=DATE-TIME:20260508T150000
TZNAME:CET
TZOFFSETFROM:+0200
TZOFFSETTO:+0100
END:STANDARD
BEGIN:DAYLIGHT
DTSTART;VALUE=DATE-TIME:20260508T150000
TZNAME:CEST
TZOFFSETFROM:+0100
TZOFFSETTO:+0200
END:DAYLIGHT
BEGIN:STANDARD
DTSTART;VALUE=DATE-TIME:20260508T150000
TZNAME:CET
TZOFFSETFROM:+0200
TZOFFSETTO:+0100
END:STANDARD
END:VTIMEZONE
END:VCALENDAR