BEGIN:VCALENDAR
VERSION:2.0
PRODID:-//UB-Event
TZID:Europe/Zurich
X-WR-TIMEZONE:Europe/Zurich
CALSCALE:GREGORIAN
BEGIN:VEVENT
SUMMARY:Die Konstruktion von Kriminellen
UID:233213
DTSTART;TZID=Europe/Zurich;VALUE=DATE-TIME:20260429T181500
DTEND;TZID=Europe/Zurich;VALUE=DATE-TIME:20260429T201500
LAST-MODIFIED;TZID=Europe/Zurich;VALUE=DATE-TIME:20260321T061236
DTSTAMP;VALUE=DATE-TIME:20260429T181500Z
LOCATION:Campus Westend, Max-Horkheimer-Straße 4, 60323 Frankfurt am Main
URL://www.xn--untergrund-blttle-2qb.ch/events/233213/die-konstruktion-von-kriminellen-campus-westend-frankfurt-am-main.html
END:VEVENT
BEGIN:VTIMEZONE
TZID:Europe/Zurich
X-LIC-LOCATION:Europe/Zurich
BEGIN:STANDARD
DTSTART;VALUE=DATE-TIME:20260429T181500
TZNAME:CET
TZOFFSETFROM:+0200
TZOFFSETTO:+0100
END:STANDARD
BEGIN:DAYLIGHT
DTSTART;VALUE=DATE-TIME:20260429T181500
TZNAME:CEST
TZOFFSETFROM:+0100
TZOFFSETTO:+0200
END:DAYLIGHT
BEGIN:STANDARD
DTSTART;VALUE=DATE-TIME:20260429T181500
TZNAME:CET
TZOFFSETFROM:+0200
TZOFFSETTO:+0100
END:STANDARD
END:VTIMEZONE
END:VCALENDAR