BEGIN:VCALENDAR
VERSION:2.0
PRODID:-//UB-Event
TZID:Europe/Zurich
X-WR-TIMEZONE:Europe/Zurich
CALSCALE:GREGORIAN
BEGIN:VEVENT
SUMMARY:Oi!tercreme & Shitshow
UID:232712
DTSTART;TZID=Europe/Zurich;VALUE=DATE-TIME:20261120T210000
DTEND;TZID=Europe/Zurich;VALUE=DATE-TIME:20261120T230000
LAST-MODIFIED;TZID=Europe/Zurich;VALUE=DATE-TIME:20260318T060605
DTSTAMP;VALUE=DATE-TIME:20261120T210000Z
LOCATION:Schaubude, Legienstraße 40, 24103 Kiel
URL://www.xn--untergrund-blttle-2qb.ch/events/232712/oitercreme-shitshow-schaubude-kiel.html
END:VEVENT
BEGIN:VTIMEZONE
TZID:Europe/Zurich
X-LIC-LOCATION:Europe/Zurich
BEGIN:STANDARD
DTSTART;VALUE=DATE-TIME:20261120T210000
TZNAME:CET
TZOFFSETFROM:+0200
TZOFFSETTO:+0100
END:STANDARD
BEGIN:DAYLIGHT
DTSTART;VALUE=DATE-TIME:20261120T210000
TZNAME:CEST
TZOFFSETFROM:+0100
TZOFFSETTO:+0200
END:DAYLIGHT
BEGIN:STANDARD
DTSTART;VALUE=DATE-TIME:20261120T210000
TZNAME:CET
TZOFFSETFROM:+0200
TZOFFSETTO:+0100
END:STANDARD
END:VTIMEZONE
END:VCALENDAR