BEGIN:VCALENDAR
VERSION:2.0
PRODID:-//UB-Event
TZID:Europe/Zurich
X-WR-TIMEZONE:Europe/Zurich
CALSCALE:GREGORIAN
BEGIN:VEVENT
SUMMARY:Wer zahlt für die Zukunft?
UID:232534
DTSTART;TZID=Europe/Zurich;VALUE=DATE-TIME:20260428T190000
DTEND;TZID=Europe/Zurich;VALUE=DATE-TIME:20260428T210000
LAST-MODIFIED;TZID=Europe/Zurich;VALUE=DATE-TIME:20260317T061231
DTSTAMP;VALUE=DATE-TIME:20260428T190000Z
LOCATION:Kunstverein Familie Montez, Honsellstraße 7, 60314 Frankfurt am Main
URL://www.xn--untergrund-blttle-2qb.ch/events/232534/wer-zahlt-fuer-die-zukunft-kunstverein-familie-montez-frankfurt-am-main.html
END:VEVENT
BEGIN:VTIMEZONE
TZID:Europe/Zurich
X-LIC-LOCATION:Europe/Zurich
BEGIN:STANDARD
DTSTART;VALUE=DATE-TIME:20260428T190000
TZNAME:CET
TZOFFSETFROM:+0200
TZOFFSETTO:+0100
END:STANDARD
BEGIN:DAYLIGHT
DTSTART;VALUE=DATE-TIME:20260428T190000
TZNAME:CEST
TZOFFSETFROM:+0100
TZOFFSETTO:+0200
END:DAYLIGHT
BEGIN:STANDARD
DTSTART;VALUE=DATE-TIME:20260428T190000
TZNAME:CET
TZOFFSETFROM:+0200
TZOFFSETTO:+0100
END:STANDARD
END:VTIMEZONE
END:VCALENDAR