BEGIN:VCALENDAR
VERSION:2.0
PRODID:-//UB-Event
TZID:Europe/Zurich
X-WR-TIMEZONE:Europe/Zurich
CALSCALE:GREGORIAN
BEGIN:VEVENT
SUMMARY:JOTA & NO ESCAPE & BORN HANGED
UID:232470
DTSTART;TZID=Europe/Zurich;VALUE=DATE-TIME:20260605T200000
DTEND;TZID=Europe/Zurich;VALUE=DATE-TIME:20260605T220000
LAST-MODIFIED;TZID=Europe/Zurich;VALUE=DATE-TIME:20260317T054855
DTSTAMP;VALUE=DATE-TIME:20260605T200000Z
LOCATION:P8, Schauenburgstraße 5, 76135 Karlsruhe
URL://www.xn--untergrund-blttle-2qb.ch/events/232470/jota-no-escape-born-hanged-p8-karlsruhe.html
END:VEVENT
BEGIN:VTIMEZONE
TZID:Europe/Zurich
X-LIC-LOCATION:Europe/Zurich
BEGIN:STANDARD
DTSTART;VALUE=DATE-TIME:20260605T200000
TZNAME:CET
TZOFFSETFROM:+0200
TZOFFSETTO:+0100
END:STANDARD
BEGIN:DAYLIGHT
DTSTART;VALUE=DATE-TIME:20260605T200000
TZNAME:CEST
TZOFFSETFROM:+0100
TZOFFSETTO:+0200
END:DAYLIGHT
BEGIN:STANDARD
DTSTART;VALUE=DATE-TIME:20260605T200000
TZNAME:CET
TZOFFSETFROM:+0200
TZOFFSETTO:+0100
END:STANDARD
END:VTIMEZONE
END:VCALENDAR