BEGIN:VCALENDAR
VERSION:2.0
PRODID:-//UB-Event
TZID:Europe/Zurich
X-WR-TIMEZONE:Europe/Zurich
CALSCALE:GREGORIAN
BEGIN:VEVENT
SUMMARY:Un/Visible. Four Kippahs and the Making of Jewish Life in Europe
UID:231870
DTSTART;TZID=Europe/Zurich;VALUE=DATE-TIME:20260623T171500
DTEND;TZID=Europe/Zurich;VALUE=DATE-TIME:20260623T191500
LAST-MODIFIED;TZID=Europe/Zurich;VALUE=DATE-TIME:20260312T062010
DTSTAMP;VALUE=DATE-TIME:20260623T171500Z
LOCATION:Leibniz-Institut für jüdische Geschichte und Kultur – Simon Dubnow, Goldschmidtstraße 28, 04103 Leipzig
URL://www.xn--untergrund-blttle-2qb.ch/events/231870/un-visible-four-kippahs-and-the-making-of-jewish-life-in-europe-leibniz-institut-fuer-juedische-geschichte-und-kultur-simon-dubnow-leipzig.html
END:VEVENT
BEGIN:VTIMEZONE
TZID:Europe/Zurich
X-LIC-LOCATION:Europe/Zurich
BEGIN:STANDARD
DTSTART;VALUE=DATE-TIME:20260623T171500
TZNAME:CET
TZOFFSETFROM:+0200
TZOFFSETTO:+0100
END:STANDARD
BEGIN:DAYLIGHT
DTSTART;VALUE=DATE-TIME:20260623T171500
TZNAME:CEST
TZOFFSETFROM:+0100
TZOFFSETTO:+0200
END:DAYLIGHT
BEGIN:STANDARD
DTSTART;VALUE=DATE-TIME:20260623T171500
TZNAME:CET
TZOFFSETFROM:+0200
TZOFFSETTO:+0100
END:STANDARD
END:VTIMEZONE
END:VCALENDAR