BEGIN:VCALENDAR
VERSION:2.0
PRODID:-//UB-Event
TZID:Europe/Zurich
X-WR-TIMEZONE:Europe/Zurich
CALSCALE:GREGORIAN
BEGIN:VEVENT
SUMMARY:Hülya-Tag 2026
UID:231514
DTSTART;TZID=Europe/Zurich;VALUE=DATE-TIME:20260529T130000
DTEND;TZID=Europe/Zurich;VALUE=DATE-TIME:20260529T150000
LAST-MODIFIED;TZID=Europe/Zurich;VALUE=DATE-TIME:20260310T061202
DTSTAMP;VALUE=DATE-TIME:20260529T130000Z
LOCATION:Hülya-Platz (Bockenheim), Hülya-Platz, 60486 Frankfurt am Main
URL://www.xn--untergrund-blttle-2qb.ch/events/231514/huelya-tag-2026-huelya-platz-bockenheim-frankfurt-am-main.html
END:VEVENT
BEGIN:VTIMEZONE
TZID:Europe/Zurich
X-LIC-LOCATION:Europe/Zurich
BEGIN:STANDARD
DTSTART;VALUE=DATE-TIME:20260529T130000
TZNAME:CET
TZOFFSETFROM:+0200
TZOFFSETTO:+0100
END:STANDARD
BEGIN:DAYLIGHT
DTSTART;VALUE=DATE-TIME:20260529T130000
TZNAME:CEST
TZOFFSETFROM:+0100
TZOFFSETTO:+0200
END:DAYLIGHT
BEGIN:STANDARD
DTSTART;VALUE=DATE-TIME:20260529T130000
TZNAME:CET
TZOFFSETFROM:+0200
TZOFFSETTO:+0100
END:STANDARD
END:VTIMEZONE
END:VCALENDAR