BEGIN:VCALENDAR
VERSION:2.0
PRODID:-//UB-Event
TZID:Europe/Zurich
X-WR-TIMEZONE:Europe/Zurich
CALSCALE:GREGORIAN
BEGIN:VEVENT
SUMMARY:To Athena
UID:231477
DTSTART;TZID=Europe/Zurich;VALUE=DATE-TIME:20261122T210000
DTEND;TZID=Europe/Zurich;VALUE=DATE-TIME:20261122T230000
LAST-MODIFIED;TZID=Europe/Zurich;VALUE=DATE-TIME:20260310T060709
DTSTAMP;VALUE=DATE-TIME:20261122T210000Z
LOCATION:Casinotheater, Stadthausstrasse 119, 8400 Winterthur
URL://www.xn--untergrund-blttle-2qb.ch/events/231477/to-athena-casinotheater-winterthur.html
END:VEVENT
BEGIN:VTIMEZONE
TZID:Europe/Zurich
X-LIC-LOCATION:Europe/Zurich
BEGIN:STANDARD
DTSTART;VALUE=DATE-TIME:20261122T210000
TZNAME:CET
TZOFFSETFROM:+0200
TZOFFSETTO:+0100
END:STANDARD
BEGIN:DAYLIGHT
DTSTART;VALUE=DATE-TIME:20261122T210000
TZNAME:CEST
TZOFFSETFROM:+0100
TZOFFSETTO:+0200
END:DAYLIGHT
BEGIN:STANDARD
DTSTART;VALUE=DATE-TIME:20261122T210000
TZNAME:CET
TZOFFSETFROM:+0200
TZOFFSETTO:+0100
END:STANDARD
END:VTIMEZONE
END:VCALENDAR