BEGIN:VCALENDAR
VERSION:2.0
PRODID:-//UB-Event
TZID:Europe/Zurich
X-WR-TIMEZONE:Europe/Zurich
CALSCALE:GREGORIAN
BEGIN:VEVENT
SUMMARY:mari mars
UID:231240
DTSTART;TZID=Europe/Zurich;VALUE=DATE-TIME:20260524T230000
DTEND;TZID=Europe/Zurich;VALUE=DATE-TIME:20260525T010000
LAST-MODIFIED;TZID=Europe/Zurich;VALUE=DATE-TIME:20260309T060203
DTSTAMP;VALUE=DATE-TIME:20260524T230000Z
LOCATION:Dachstock, Neubrückstrasse 8, 3012 Bern
URL://www.xn--untergrund-blttle-2qb.ch/events/231240/mari-mars-dachstock-bern.html
END:VEVENT
BEGIN:VTIMEZONE
TZID:Europe/Zurich
X-LIC-LOCATION:Europe/Zurich
BEGIN:STANDARD
DTSTART;VALUE=DATE-TIME:20260524T230000
TZNAME:CET
TZOFFSETFROM:+0200
TZOFFSETTO:+0100
END:STANDARD
BEGIN:DAYLIGHT
DTSTART;VALUE=DATE-TIME:20260524T230000
TZNAME:CEST
TZOFFSETFROM:+0100
TZOFFSETTO:+0200
END:DAYLIGHT
BEGIN:STANDARD
DTSTART;VALUE=DATE-TIME:20260524T230000
TZNAME:CET
TZOFFSETFROM:+0200
TZOFFSETTO:+0100
END:STANDARD
END:VTIMEZONE
END:VCALENDAR