BEGIN:VCALENDAR
VERSION:2.0
PRODID:-//UB-Event
TZID:Europe/Zurich
X-WR-TIMEZONE:Europe/Zurich
CALSCALE:GREGORIAN
BEGIN:VEVENT
SUMMARY:Frankfurt liest ein Buch: Schreibwerkstatt der Naturfreunde Frankfurt
UID:231153
DTSTART;TZID=Europe/Zurich;VALUE=DATE-TIME:20260422T190000
DTEND;TZID=Europe/Zurich;VALUE=DATE-TIME:20260422T210000
LAST-MODIFIED;TZID=Europe/Zurich;VALUE=DATE-TIME:20260307T061413
DTSTAMP;VALUE=DATE-TIME:20260422T190000Z
LOCATION:Naturfreundehaus, Am Poloplatz 15, 60528 Frankfurt am Main
URL://www.xn--untergrund-blttle-2qb.ch/events/231153/frankfurt-liest-ein-buch-schreibwerkstatt-der-naturfreunde-frankfurt-naturfreundehaus-frankfurt-am-main.html
END:VEVENT
BEGIN:VTIMEZONE
TZID:Europe/Zurich
X-LIC-LOCATION:Europe/Zurich
BEGIN:STANDARD
DTSTART;VALUE=DATE-TIME:20260422T190000
TZNAME:CET
TZOFFSETFROM:+0200
TZOFFSETTO:+0100
END:STANDARD
BEGIN:DAYLIGHT
DTSTART;VALUE=DATE-TIME:20260422T190000
TZNAME:CEST
TZOFFSETFROM:+0100
TZOFFSETTO:+0200
END:DAYLIGHT
BEGIN:STANDARD
DTSTART;VALUE=DATE-TIME:20260422T190000
TZNAME:CET
TZOFFSETFROM:+0200
TZOFFSETTO:+0100
END:STANDARD
END:VTIMEZONE
END:VCALENDAR