BEGIN:VCALENDAR
VERSION:2.0
PRODID:-//UB-Event
TZID:Europe/Zurich
X-WR-TIMEZONE:Europe/Zurich
CALSCALE:GREGORIAN
BEGIN:VEVENT
SUMMARY:37. Schaffhauser Jazzfestival: Michael Flury / Simone Keller
UID:230993
DTSTART;TZID=Europe/Zurich;VALUE=DATE-TIME:20260505T210000
DTEND;TZID=Europe/Zurich;VALUE=DATE-TIME:20260505T230000
LAST-MODIFIED;TZID=Europe/Zurich;VALUE=DATE-TIME:20260306T055529
DTSTAMP;VALUE=DATE-TIME:20260505T210000Z
LOCATION:Kammgarn, Baumgartenstrasse 19, 8200 Schaffhausen
URL://www.xn--untergrund-blttle-2qb.ch/events/230993/37-schaffhauser-jazzfestival-michael-flury-simone-keller-kammgarn-schaffhausen.html
END:VEVENT
BEGIN:VTIMEZONE
TZID:Europe/Zurich
X-LIC-LOCATION:Europe/Zurich
BEGIN:STANDARD
DTSTART;VALUE=DATE-TIME:20260505T210000
TZNAME:CET
TZOFFSETFROM:+0200
TZOFFSETTO:+0100
END:STANDARD
BEGIN:DAYLIGHT
DTSTART;VALUE=DATE-TIME:20260505T210000
TZNAME:CEST
TZOFFSETFROM:+0100
TZOFFSETTO:+0200
END:DAYLIGHT
BEGIN:STANDARD
DTSTART;VALUE=DATE-TIME:20260505T210000
TZNAME:CET
TZOFFSETFROM:+0200
TZOFFSETTO:+0100
END:STANDARD
END:VTIMEZONE
END:VCALENDAR