BEGIN:VCALENDAR
VERSION:2.0
PRODID:-//UB-Event
TZID:Europe/Zurich
X-WR-TIMEZONE:Europe/Zurich
CALSCALE:GREGORIAN
BEGIN:VEVENT
SUMMARY:The Living Tombstone
UID:230879
DTSTART;TZID=Europe/Zurich;VALUE=DATE-TIME:20260815T210000
DTEND;TZID=Europe/Zurich;VALUE=DATE-TIME:20260815T230000
LAST-MODIFIED;TZID=Europe/Zurich;VALUE=DATE-TIME:20260304T062612
DTSTAMP;VALUE=DATE-TIME:20260815T210000Z
LOCATION:Komplex 457, Hohlstrasse 457, 8048 Zürich
URL://www.xn--untergrund-blttle-2qb.ch/events/230879/the-living-tombstone-komplex-457-zuerich.html
END:VEVENT
BEGIN:VTIMEZONE
TZID:Europe/Zurich
X-LIC-LOCATION:Europe/Zurich
BEGIN:STANDARD
DTSTART;VALUE=DATE-TIME:20260815T210000
TZNAME:CET
TZOFFSETFROM:+0200
TZOFFSETTO:+0100
END:STANDARD
BEGIN:DAYLIGHT
DTSTART;VALUE=DATE-TIME:20260815T210000
TZNAME:CEST
TZOFFSETFROM:+0100
TZOFFSETTO:+0200
END:DAYLIGHT
BEGIN:STANDARD
DTSTART;VALUE=DATE-TIME:20260815T210000
TZNAME:CET
TZOFFSETFROM:+0200
TZOFFSETTO:+0100
END:STANDARD
END:VTIMEZONE
END:VCALENDAR