BEGIN:VCALENDAR
VERSION:2.0
PRODID:-//UB-Event
TZID:Europe/Zurich
X-WR-TIMEZONE:Europe/Zurich
CALSCALE:GREGORIAN
BEGIN:VEVENT
SUMMARY:bergmal presents: Telepathy (UK) & car crash weather (CH)
UID:230640
DTSTART;TZID=Europe/Zurich;VALUE=DATE-TIME:20260426T190000
DTEND;TZID=Europe/Zurich;VALUE=DATE-TIME:20260426T210000
LAST-MODIFIED;TZID=Europe/Zurich;VALUE=DATE-TIME:20260303T060340
DTSTAMP;VALUE=DATE-TIME:20260426T190000Z
LOCATION:Dynamo (Werk 21), Wasserwerkstrasse 21, 8006 Zürich
URL://www.xn--untergrund-blttle-2qb.ch/events/230640/bergmal-presents-telepathy-uk-car-crash-weather-ch-dynamo-werk-21-zuerich.html
END:VEVENT
BEGIN:VTIMEZONE
TZID:Europe/Zurich
X-LIC-LOCATION:Europe/Zurich
BEGIN:STANDARD
DTSTART;VALUE=DATE-TIME:20260426T190000
TZNAME:CET
TZOFFSETFROM:+0200
TZOFFSETTO:+0100
END:STANDARD
BEGIN:DAYLIGHT
DTSTART;VALUE=DATE-TIME:20260426T190000
TZNAME:CEST
TZOFFSETFROM:+0100
TZOFFSETTO:+0200
END:DAYLIGHT
BEGIN:STANDARD
DTSTART;VALUE=DATE-TIME:20260426T190000
TZNAME:CET
TZOFFSETFROM:+0200
TZOFFSETTO:+0100
END:STANDARD
END:VTIMEZONE
END:VCALENDAR