BEGIN:VCALENDAR
VERSION:2.0
PRODID:-//UB-Event
TZID:Europe/Zurich
X-WR-TIMEZONE:Europe/Zurich
CALSCALE:GREGORIAN
BEGIN:VEVENT
SUMMARY:KONZERT: Pizza Death & fuckfuckfuck
UID:230606
DTSTART;TZID=Europe/Zurich;VALUE=DATE-TIME:20260611T203000
DTEND;TZID=Europe/Zurich;VALUE=DATE-TIME:20260611T223000
LAST-MODIFIED;TZID=Europe/Zurich;VALUE=DATE-TIME:20260303T054849
DTSTAMP;VALUE=DATE-TIME:20260611T203000Z
LOCATION:Alte Hackerei, Alter Schlachthof 11, 76131 Karlsruhe
URL://www.xn--untergrund-blttle-2qb.ch/events/230606/konzert-pizza-death-fuckfuckfuck-alte-hackerei-karlsruhe.html
END:VEVENT
BEGIN:VTIMEZONE
TZID:Europe/Zurich
X-LIC-LOCATION:Europe/Zurich
BEGIN:STANDARD
DTSTART;VALUE=DATE-TIME:20260611T203000
TZNAME:CET
TZOFFSETFROM:+0200
TZOFFSETTO:+0100
END:STANDARD
BEGIN:DAYLIGHT
DTSTART;VALUE=DATE-TIME:20260611T203000
TZNAME:CEST
TZOFFSETFROM:+0100
TZOFFSETTO:+0200
END:DAYLIGHT
BEGIN:STANDARD
DTSTART;VALUE=DATE-TIME:20260611T203000
TZNAME:CET
TZOFFSETFROM:+0200
TZOFFSETTO:+0100
END:STANDARD
END:VTIMEZONE
END:VCALENDAR