BEGIN:VCALENDAR
VERSION:2.0
PRODID:-//UB-Event
TZID:Europe/Zurich
X-WR-TIMEZONE:Europe/Zurich
CALSCALE:GREGORIAN
BEGIN:VEVENT
SUMMARY:Al McKay's Earth Wind & Fire Experience
UID:230254
DTSTART;TZID=Europe/Zurich;VALUE=DATE-TIME:20260615T210000
DTEND;TZID=Europe/Zurich;VALUE=DATE-TIME:20260615T230000
LAST-MODIFIED;TZID=Europe/Zurich;VALUE=DATE-TIME:20260302T055527
DTSTAMP;VALUE=DATE-TIME:20260615T210000Z
LOCATION:Mühle Hunziken, Hunziken 101, 3113 Rubigen
URL://www.xn--untergrund-blttle-2qb.ch/events/230254/al-mckays-earth-wind-fire-experience-muehle-hunziken-rubigen.html
END:VEVENT
BEGIN:VTIMEZONE
TZID:Europe/Zurich
X-LIC-LOCATION:Europe/Zurich
BEGIN:STANDARD
DTSTART;VALUE=DATE-TIME:20260615T210000
TZNAME:CET
TZOFFSETFROM:+0200
TZOFFSETTO:+0100
END:STANDARD
BEGIN:DAYLIGHT
DTSTART;VALUE=DATE-TIME:20260615T210000
TZNAME:CEST
TZOFFSETFROM:+0100
TZOFFSETTO:+0200
END:DAYLIGHT
BEGIN:STANDARD
DTSTART;VALUE=DATE-TIME:20260615T210000
TZNAME:CET
TZOFFSETFROM:+0200
TZOFFSETTO:+0100
END:STANDARD
END:VTIMEZONE
END:VCALENDAR