BEGIN:VCALENDAR
VERSION:2.0
PRODID:-//UB-Event
TZID:Europe/Zurich
X-WR-TIMEZONE:Europe/Zurich
CALSCALE:GREGORIAN
BEGIN:VEVENT
SUMMARY:Warum Freier (fast immer) Männer sind – Über Männlichkeit, Sexualität und Prostitution
UID:230125
DTSTART;TZID=Europe/Zurich;VALUE=DATE-TIME:20260428T190000
DTEND;TZID=Europe/Zurich;VALUE=DATE-TIME:20260428T210000
LAST-MODIFIED;TZID=Europe/Zurich;VALUE=DATE-TIME:20260228T061938
DTSTAMP;VALUE=DATE-TIME:20260428T190000Z
LOCATION:Grassi Museum für Völkerkunde, Johannisplatz 5-11, 04103 Leipzig
URL://www.xn--untergrund-blttle-2qb.ch/events/230125/warum-freier-fast-immer-maenner-sind-ueber-maennlichkeit-sexualitaet-und-prostitution-grassi-museum-fuer-volkerkunde-leipzig.html
END:VEVENT
BEGIN:VTIMEZONE
TZID:Europe/Zurich
X-LIC-LOCATION:Europe/Zurich
BEGIN:STANDARD
DTSTART;VALUE=DATE-TIME:20260428T190000
TZNAME:CET
TZOFFSETFROM:+0200
TZOFFSETTO:+0100
END:STANDARD
BEGIN:DAYLIGHT
DTSTART;VALUE=DATE-TIME:20260428T190000
TZNAME:CEST
TZOFFSETFROM:+0100
TZOFFSETTO:+0200
END:DAYLIGHT
BEGIN:STANDARD
DTSTART;VALUE=DATE-TIME:20260428T190000
TZNAME:CET
TZOFFSETFROM:+0200
TZOFFSETTO:+0100
END:STANDARD
END:VTIMEZONE
END:VCALENDAR