BEGIN:VCALENDAR
VERSION:2.0
PRODID:-//UB-Event
TZID:Europe/Zurich
X-WR-TIMEZONE:Europe/Zurich
CALSCALE:GREGORIAN
BEGIN:VEVENT
SUMMARY:Bureau De Change
UID:228956
DTSTART;TZID=Europe/Zurich;VALUE=DATE-TIME:20260530T210000
DTEND;TZID=Europe/Zurich;VALUE=DATE-TIME:20260530T230000
LAST-MODIFIED;TZID=Europe/Zurich;VALUE=DATE-TIME:20260221T060710
DTSTAMP;VALUE=DATE-TIME:20260530T210000Z
LOCATION:ISC, Neubrückstrasse 10, 3012 Bern
URL://www.xn--untergrund-blttle-2qb.ch/events/228956/bureau-de-change-isc-bern.html
END:VEVENT
BEGIN:VTIMEZONE
TZID:Europe/Zurich
X-LIC-LOCATION:Europe/Zurich
BEGIN:STANDARD
DTSTART;VALUE=DATE-TIME:20260530T210000
TZNAME:CET
TZOFFSETFROM:+0200
TZOFFSETTO:+0100
END:STANDARD
BEGIN:DAYLIGHT
DTSTART;VALUE=DATE-TIME:20260530T210000
TZNAME:CEST
TZOFFSETFROM:+0100
TZOFFSETTO:+0200
END:DAYLIGHT
BEGIN:STANDARD
DTSTART;VALUE=DATE-TIME:20260530T210000
TZNAME:CET
TZOFFSETFROM:+0200
TZOFFSETTO:+0100
END:STANDARD
END:VTIMEZONE
END:VCALENDAR