BEGIN:VCALENDAR
VERSION:2.0
PRODID:-//UB-Event
TZID:Europe/Zurich
X-WR-TIMEZONE:Europe/Zurich
CALSCALE:GREGORIAN
BEGIN:VEVENT
SUMMARY:The Peacocks
UID:227542
DTSTART;TZID=Europe/Zurich;VALUE=DATE-TIME:20261120T210000
DTEND;TZID=Europe/Zurich;VALUE=DATE-TIME:20261120T230000
LAST-MODIFIED;TZID=Europe/Zurich;VALUE=DATE-TIME:20260210T060709
DTSTAMP;VALUE=DATE-TIME:20261120T210000Z
LOCATION:Royal Baden, Falkenstraße 2, 74072 Baden
URL://www.xn--untergrund-blttle-2qb.ch/events/227542/the-peacocks-royal-baden-baden.html
END:VEVENT
BEGIN:VTIMEZONE
TZID:Europe/Zurich
X-LIC-LOCATION:Europe/Zurich
BEGIN:STANDARD
DTSTART;VALUE=DATE-TIME:20261120T210000
TZNAME:CET
TZOFFSETFROM:+0200
TZOFFSETTO:+0100
END:STANDARD
BEGIN:DAYLIGHT
DTSTART;VALUE=DATE-TIME:20261120T210000
TZNAME:CEST
TZOFFSETFROM:+0100
TZOFFSETTO:+0200
END:DAYLIGHT
BEGIN:STANDARD
DTSTART;VALUE=DATE-TIME:20261120T210000
TZNAME:CET
TZOFFSETFROM:+0200
TZOFFSETTO:+0100
END:STANDARD
END:VTIMEZONE
END:VCALENDAR