BEGIN:VCALENDAR
VERSION:2.0
PRODID:-//UB-Event
TZID:Europe/Zurich
X-WR-TIMEZONE:Europe/Zurich
CALSCALE:GREGORIAN
BEGIN:VEVENT
SUMMARY:Gruppa Karl Marx Stadt
UID:226939
DTSTART;TZID=Europe/Zurich;VALUE=DATE-TIME:20261010T210000
DTEND;TZID=Europe/Zurich;VALUE=DATE-TIME:20261010T230000
LAST-MODIFIED;TZID=Europe/Zurich;VALUE=DATE-TIME:20260206T060605
DTSTAMP;VALUE=DATE-TIME:20261010T210000Z
LOCATION:Treibsand, Willy-Brandt-Allee 9, 23554 Lübeck
URL://www.xn--untergrund-blttle-2qb.ch/events/226939/gruppa-karl-marx-stadt-treibsand-luebeck.html
END:VEVENT
BEGIN:VTIMEZONE
TZID:Europe/Zurich
X-LIC-LOCATION:Europe/Zurich
BEGIN:STANDARD
DTSTART;VALUE=DATE-TIME:20261010T210000
TZNAME:CET
TZOFFSETFROM:+0200
TZOFFSETTO:+0100
END:STANDARD
BEGIN:DAYLIGHT
DTSTART;VALUE=DATE-TIME:20261010T210000
TZNAME:CEST
TZOFFSETFROM:+0100
TZOFFSETTO:+0200
END:DAYLIGHT
BEGIN:STANDARD
DTSTART;VALUE=DATE-TIME:20261010T210000
TZNAME:CET
TZOFFSETFROM:+0200
TZOFFSETTO:+0100
END:STANDARD
END:VTIMEZONE
END:VCALENDAR