BEGIN:VCALENDAR
VERSION:2.0
PRODID:-//UB-Event
TZID:Europe/Zurich
X-WR-TIMEZONE:Europe/Zurich
CALSCALE:GREGORIAN
BEGIN:VEVENT
SUMMARY:Nation Of Language
UID:226925
DTSTART;TZID=Europe/Zurich;VALUE=DATE-TIME:20260618T210000
DTEND;TZID=Europe/Zurich;VALUE=DATE-TIME:20260618T230000
LAST-MODIFIED;TZID=Europe/Zurich;VALUE=DATE-TIME:20260205T090710
DTSTAMP;VALUE=DATE-TIME:20260618T210000Z
LOCATION:B-Sides Festival, Sonnenberg 619, 6003 Kriens
URL://www.xn--untergrund-blttle-2qb.ch/events/226925/nation-of-language-b-sides-festival-kriens.html
END:VEVENT
BEGIN:VTIMEZONE
TZID:Europe/Zurich
X-LIC-LOCATION:Europe/Zurich
BEGIN:STANDARD
DTSTART;VALUE=DATE-TIME:20260618T210000
TZNAME:CET
TZOFFSETFROM:+0200
TZOFFSETTO:+0100
END:STANDARD
BEGIN:DAYLIGHT
DTSTART;VALUE=DATE-TIME:20260618T210000
TZNAME:CEST
TZOFFSETFROM:+0100
TZOFFSETTO:+0200
END:DAYLIGHT
BEGIN:STANDARD
DTSTART;VALUE=DATE-TIME:20260618T210000
TZNAME:CET
TZOFFSETFROM:+0200
TZOFFSETTO:+0100
END:STANDARD
END:VTIMEZONE
END:VCALENDAR