BEGIN:VCALENDAR
VERSION:2.0
PRODID:-//UB-Event
TZID:Europe/Zurich
X-WR-TIMEZONE:Europe/Zurich
CALSCALE:GREGORIAN
BEGIN:VEVENT
SUMMARY:Markt der Macken
UID:226778
DTSTART;TZID=Europe/Zurich;VALUE=DATE-TIME:20261003T131200
DTEND;TZID=Europe/Zurich;VALUE=DATE-TIME:20261003T151200
LAST-MODIFIED;TZID=Europe/Zurich;VALUE=DATE-TIME:20260204T061904
DTSTAMP;VALUE=DATE-TIME:20261003T131200Z
LOCATION:Lobusch, Lobuschstraße 39, 22765 Hamburg
URL://www.xn--untergrund-blttle-2qb.ch/events/226778/markt-der-macken-lobusch-hamburg.html
END:VEVENT
BEGIN:VTIMEZONE
TZID:Europe/Zurich
X-LIC-LOCATION:Europe/Zurich
BEGIN:STANDARD
DTSTART;VALUE=DATE-TIME:20261003T131200
TZNAME:CET
TZOFFSETFROM:+0200
TZOFFSETTO:+0100
END:STANDARD
BEGIN:DAYLIGHT
DTSTART;VALUE=DATE-TIME:20261003T131200
TZNAME:CEST
TZOFFSETFROM:+0100
TZOFFSETTO:+0200
END:DAYLIGHT
BEGIN:STANDARD
DTSTART;VALUE=DATE-TIME:20261003T131200
TZNAME:CET
TZOFFSETFROM:+0200
TZOFFSETTO:+0100
END:STANDARD
END:VTIMEZONE
END:VCALENDAR