BEGIN:VCALENDAR
VERSION:2.0
PRODID:-//UB-Event
TZID:Europe/Zurich
X-WR-TIMEZONE:Europe/Zurich
CALSCALE:GREGORIAN
BEGIN:VEVENT
SUMMARY:The Toasters
UID:226624
DTSTART;TZID=Europe/Zurich;VALUE=DATE-TIME:20261002T210000
DTEND;TZID=Europe/Zurich;VALUE=DATE-TIME:20261002T230000
LAST-MODIFIED;TZID=Europe/Zurich;VALUE=DATE-TIME:20260207T060709
DTSTAMP;VALUE=DATE-TIME:20261002T210000Z
LOCATION:Altes Hallenbad, Reichenfeldgasse 10, 6800 Feldkirch
URL://www.xn--untergrund-blttle-2qb.ch/events/226624/the-toasters-altes-hallenbad-feldkirch.html
END:VEVENT
BEGIN:VTIMEZONE
TZID:Europe/Zurich
X-LIC-LOCATION:Europe/Zurich
BEGIN:STANDARD
DTSTART;VALUE=DATE-TIME:20261002T210000
TZNAME:CET
TZOFFSETFROM:+0200
TZOFFSETTO:+0100
END:STANDARD
BEGIN:DAYLIGHT
DTSTART;VALUE=DATE-TIME:20261002T210000
TZNAME:CEST
TZOFFSETFROM:+0100
TZOFFSETTO:+0200
END:DAYLIGHT
BEGIN:STANDARD
DTSTART;VALUE=DATE-TIME:20261002T210000
TZNAME:CET
TZOFFSETFROM:+0200
TZOFFSETTO:+0100
END:STANDARD
END:VTIMEZONE
END:VCALENDAR