BEGIN:VCALENDAR
VERSION:2.0
PRODID:-//UB-Event
TZID:Europe/Zurich
X-WR-TIMEZONE:Europe/Zurich
CALSCALE:GREGORIAN
BEGIN:VEVENT
SUMMARY:JAHRESFEST: Moving Targets, Blut & Eisen, Skranefjell & pennyroundhousekick | Aftershow mit DJ Bocky & Jörn
UID:226489
DTSTART;TZID=Europe/Zurich;VALUE=DATE-TIME:20260508T190000
DTEND;TZID=Europe/Zurich;VALUE=DATE-TIME:20260508T210000
LAST-MODIFIED;TZID=Europe/Zurich;VALUE=DATE-TIME:20260203T054854
DTSTAMP;VALUE=DATE-TIME:20260508T190000Z
LOCATION:Alte Hackerei, Alter Schlachthof 11, 76131 Karlsruhe
URL://www.xn--untergrund-blttle-2qb.ch/events/226489/jahresfest-moving-targets-blut-eisen-skranefjell-pennyroundhousekick-aftershow-mit-dj-bocky-jorn-alte-hackerei-karlsruhe.html
END:VEVENT
BEGIN:VTIMEZONE
TZID:Europe/Zurich
X-LIC-LOCATION:Europe/Zurich
BEGIN:STANDARD
DTSTART;VALUE=DATE-TIME:20260508T190000
TZNAME:CET
TZOFFSETFROM:+0200
TZOFFSETTO:+0100
END:STANDARD
BEGIN:DAYLIGHT
DTSTART;VALUE=DATE-TIME:20260508T190000
TZNAME:CEST
TZOFFSETFROM:+0100
TZOFFSETTO:+0200
END:DAYLIGHT
BEGIN:STANDARD
DTSTART;VALUE=DATE-TIME:20260508T190000
TZNAME:CET
TZOFFSETFROM:+0200
TZOFFSETTO:+0100
END:STANDARD
END:VTIMEZONE
END:VCALENDAR