BEGIN:VCALENDAR
VERSION:2.0
PRODID:-//UB-Event
TZID:Europe/Zurich
X-WR-TIMEZONE:Europe/Zurich
CALSCALE:GREGORIAN
BEGIN:VEVENT
SUMMARY:Knallo Filmabend "Kein Gott, kein Herr! Teil 4"
UID:226254
DTSTART;TZID=Europe/Zurich;VALUE=DATE-TIME:20260423T183000
DTEND;TZID=Europe/Zurich;VALUE=DATE-TIME:20260423T203000
LAST-MODIFIED;TZID=Europe/Zurich;VALUE=DATE-TIME:20260130T061911
DTSTAMP;VALUE=DATE-TIME:20260423T183000Z
LOCATION:Café Knallhart, Allende-Platz 1, 20146 Hamburg
URL://www.xn--untergrund-blttle-2qb.ch/events/226254/knallo-filmabend-kein-gott-kein-herr-teil-4-cafe-knallhart-hamburg.html
END:VEVENT
BEGIN:VTIMEZONE
TZID:Europe/Zurich
X-LIC-LOCATION:Europe/Zurich
BEGIN:STANDARD
DTSTART;VALUE=DATE-TIME:20260423T183000
TZNAME:CET
TZOFFSETFROM:+0200
TZOFFSETTO:+0100
END:STANDARD
BEGIN:DAYLIGHT
DTSTART;VALUE=DATE-TIME:20260423T183000
TZNAME:CEST
TZOFFSETFROM:+0100
TZOFFSETTO:+0200
END:DAYLIGHT
BEGIN:STANDARD
DTSTART;VALUE=DATE-TIME:20260423T183000
TZNAME:CET
TZOFFSETFROM:+0200
TZOFFSETTO:+0100
END:STANDARD
END:VTIMEZONE
END:VCALENDAR