BEGIN:VCALENDAR
VERSION:2.0
PRODID:-//UB-Event
TZID:Europe/Zurich
X-WR-TIMEZONE:Europe/Zurich
CALSCALE:GREGORIAN
BEGIN:VEVENT
SUMMARY:MARIA ISKARIOT & FANCITY & ENFYS & GRID68
UID:226215
DTSTART;TZID=Europe/Zurich;VALUE=DATE-TIME:20260424T000000
DTEND;TZID=Europe/Zurich;VALUE=DATE-TIME:20260424T020000
LAST-MODIFIED;TZID=Europe/Zurich;VALUE=DATE-TIME:20260131T054901
DTSTAMP;VALUE=DATE-TIME:20260424T000000Z
LOCATION:P8, Schauenburgstraße 5, 76135 Karlsruhe
URL://www.xn--untergrund-blttle-2qb.ch/events/226215/maria-iskariot-fancity-enfys-grid68-p8-karlsruhe.html
END:VEVENT
BEGIN:VTIMEZONE
TZID:Europe/Zurich
X-LIC-LOCATION:Europe/Zurich
BEGIN:STANDARD
DTSTART;VALUE=DATE-TIME:20260424T000000
TZNAME:CET
TZOFFSETFROM:+0200
TZOFFSETTO:+0100
END:STANDARD
BEGIN:DAYLIGHT
DTSTART;VALUE=DATE-TIME:20260424T000000
TZNAME:CEST
TZOFFSETFROM:+0100
TZOFFSETTO:+0200
END:DAYLIGHT
BEGIN:STANDARD
DTSTART;VALUE=DATE-TIME:20260424T000000
TZNAME:CET
TZOFFSETFROM:+0200
TZOFFSETTO:+0100
END:STANDARD
END:VTIMEZONE
END:VCALENDAR