BEGIN:VCALENDAR
VERSION:2.0
PRODID:-//UB-Event
TZID:Europe/Zurich
X-WR-TIMEZONE:Europe/Zurich
CALSCALE:GREGORIAN
BEGIN:VEVENT
SUMMARY:Dimitri Howald & The Amnis Band
UID:225975
DTSTART;TZID=Europe/Zurich;VALUE=DATE-TIME:20260513T210000
DTEND;TZID=Europe/Zurich;VALUE=DATE-TIME:20260513T230000
LAST-MODIFIED;TZID=Europe/Zurich;VALUE=DATE-TIME:20260130T055513
DTSTAMP;VALUE=DATE-TIME:20260513T210000Z
LOCATION:Prozess, Bahnstrasse 44, 3008 Bern
URL://www.xn--untergrund-blttle-2qb.ch/events/225975/dimitri-howald-the-amnis-band-prozess-bern.html
END:VEVENT
BEGIN:VTIMEZONE
TZID:Europe/Zurich
X-LIC-LOCATION:Europe/Zurich
BEGIN:STANDARD
DTSTART;VALUE=DATE-TIME:20260513T210000
TZNAME:CET
TZOFFSETFROM:+0200
TZOFFSETTO:+0100
END:STANDARD
BEGIN:DAYLIGHT
DTSTART;VALUE=DATE-TIME:20260513T210000
TZNAME:CEST
TZOFFSETFROM:+0100
TZOFFSETTO:+0200
END:DAYLIGHT
BEGIN:STANDARD
DTSTART;VALUE=DATE-TIME:20260513T210000
TZNAME:CET
TZOFFSETFROM:+0200
TZOFFSETTO:+0100
END:STANDARD
END:VTIMEZONE
END:VCALENDAR