BEGIN:VCALENDAR
VERSION:2.0
PRODID:-//UB-Event
TZID:Europe/Zurich
X-WR-TIMEZONE:Europe/Zurich
CALSCALE:GREGORIAN
BEGIN:VEVENT
SUMMARY:Andy Trinkler & The Captain's Club
UID:225957
DTSTART;TZID=Europe/Zurich;VALUE=DATE-TIME:20261112T210000
DTEND;TZID=Europe/Zurich;VALUE=DATE-TIME:20261112T230000
LAST-MODIFIED;TZID=Europe/Zurich;VALUE=DATE-TIME:20260130T055512
DTSTAMP;VALUE=DATE-TIME:20261112T210000Z
LOCATION:Mahogany Hall, Klösterlistutz 18, 3013 Bern
URL://www.xn--untergrund-blttle-2qb.ch/events/225957/andy-trinkler-the-captains-club-mahogany-hall-bern.html
END:VEVENT
BEGIN:VTIMEZONE
TZID:Europe/Zurich
X-LIC-LOCATION:Europe/Zurich
BEGIN:STANDARD
DTSTART;VALUE=DATE-TIME:20261112T210000
TZNAME:CET
TZOFFSETFROM:+0200
TZOFFSETTO:+0100
END:STANDARD
BEGIN:DAYLIGHT
DTSTART;VALUE=DATE-TIME:20261112T210000
TZNAME:CEST
TZOFFSETFROM:+0100
TZOFFSETTO:+0200
END:DAYLIGHT
BEGIN:STANDARD
DTSTART;VALUE=DATE-TIME:20261112T210000
TZNAME:CET
TZOFFSETFROM:+0200
TZOFFSETTO:+0100
END:STANDARD
END:VTIMEZONE
END:VCALENDAR