BEGIN:VCALENDAR
VERSION:2.0
PRODID:-//UB-Event
TZID:Europe/Zurich
X-WR-TIMEZONE:Europe/Zurich
CALSCALE:GREGORIAN
BEGIN:VEVENT
SUMMARY:Queerer Brunch
UID:225238
DTSTART;TZID=Europe/Zurich;VALUE=DATE-TIME:20261101T103000
DTEND;TZID=Europe/Zurich;VALUE=DATE-TIME:20261101T123000
LAST-MODIFIED;TZID=Europe/Zurich;VALUE=DATE-TIME:20260123T061133
DTSTAMP;VALUE=DATE-TIME:20261101T103000Z
LOCATION:Caféplus, Gnadenort 3 - 5, 44135 Dortmund
URL://www.xn--untergrund-blttle-2qb.ch/events/225238/queerer-brunch-cafeplus-dortmund.html
END:VEVENT
BEGIN:VTIMEZONE
TZID:Europe/Zurich
X-LIC-LOCATION:Europe/Zurich
BEGIN:STANDARD
DTSTART;VALUE=DATE-TIME:20261101T103000
TZNAME:CET
TZOFFSETFROM:+0200
TZOFFSETTO:+0100
END:STANDARD
BEGIN:DAYLIGHT
DTSTART;VALUE=DATE-TIME:20261101T103000
TZNAME:CEST
TZOFFSETFROM:+0100
TZOFFSETTO:+0200
END:DAYLIGHT
BEGIN:STANDARD
DTSTART;VALUE=DATE-TIME:20261101T103000
TZNAME:CET
TZOFFSETFROM:+0200
TZOFFSETTO:+0100
END:STANDARD
END:VTIMEZONE
END:VCALENDAR