BEGIN:VCALENDAR
VERSION:2.0
PRODID:-//UB-Event
TZID:Europe/Zurich
X-WR-TIMEZONE:Europe/Zurich
CALSCALE:GREGORIAN
BEGIN:VEVENT
SUMMARY:Neil Young and The Chrome Hearts
UID:224897
DTSTART;TZID=Europe/Zurich;VALUE=DATE-TIME:20260712T210000
DTEND;TZID=Europe/Zurich;VALUE=DATE-TIME:20260712T230000
LAST-MODIFIED;TZID=Europe/Zurich;VALUE=DATE-TIME:20260129T060708
DTSTAMP;VALUE=DATE-TIME:20260712T210000Z
LOCATION:Moon & Stars, Piazza Grande, 6605 Locarno
URL://www.xn--untergrund-blttle-2qb.ch/events/224897/neil-young-and-the-chrome-hearts-moon-stars-locarno.html
END:VEVENT
BEGIN:VTIMEZONE
TZID:Europe/Zurich
X-LIC-LOCATION:Europe/Zurich
BEGIN:STANDARD
DTSTART;VALUE=DATE-TIME:20260712T210000
TZNAME:CET
TZOFFSETFROM:+0200
TZOFFSETTO:+0100
END:STANDARD
BEGIN:DAYLIGHT
DTSTART;VALUE=DATE-TIME:20260712T210000
TZNAME:CEST
TZOFFSETFROM:+0100
TZOFFSETTO:+0200
END:DAYLIGHT
BEGIN:STANDARD
DTSTART;VALUE=DATE-TIME:20260712T210000
TZNAME:CET
TZOFFSETFROM:+0200
TZOFFSETTO:+0100
END:STANDARD
END:VTIMEZONE
END:VCALENDAR