BEGIN:VCALENDAR
VERSION:2.0
PRODID:-//UB-Event
TZID:Europe/Zurich
X-WR-TIMEZONE:Europe/Zurich
CALSCALE:GREGORIAN
BEGIN:VEVENT
SUMMARY:Die dunkle Seite der Discokugel
UID:224671
DTSTART;TZID=Europe/Zurich;VALUE=DATE-TIME:20260708T210000
DTEND;TZID=Europe/Zurich;VALUE=DATE-TIME:20260708T230000
LAST-MODIFIED;TZID=Europe/Zurich;VALUE=DATE-TIME:20260121T060605
DTSTAMP;VALUE=DATE-TIME:20260708T210000Z
LOCATION:Wild@Heart, Sredzkistraße 44, 10435 Berlin
URL://www.xn--untergrund-blttle-2qb.ch/events/224671/die-dunkle-seite-der-discokugel-wildheart-berlin.html
END:VEVENT
BEGIN:VTIMEZONE
TZID:Europe/Zurich
X-LIC-LOCATION:Europe/Zurich
BEGIN:STANDARD
DTSTART;VALUE=DATE-TIME:20260708T210000
TZNAME:CET
TZOFFSETFROM:+0200
TZOFFSETTO:+0100
END:STANDARD
BEGIN:DAYLIGHT
DTSTART;VALUE=DATE-TIME:20260708T210000
TZNAME:CEST
TZOFFSETFROM:+0100
TZOFFSETTO:+0200
END:DAYLIGHT
BEGIN:STANDARD
DTSTART;VALUE=DATE-TIME:20260708T210000
TZNAME:CET
TZOFFSETFROM:+0200
TZOFFSETTO:+0100
END:STANDARD
END:VTIMEZONE
END:VCALENDAR