BEGIN:VCALENDAR
VERSION:2.0
PRODID:-//UB-Event
TZID:Europe/Zurich
X-WR-TIMEZONE:Europe/Zurich
CALSCALE:GREGORIAN
BEGIN:VEVENT
SUMMARY:Black Label Society
UID:223752
DTSTART;TZID=Europe/Zurich;VALUE=DATE-TIME:20260623T210000
DTEND;TZID=Europe/Zurich;VALUE=DATE-TIME:20260623T230000
LAST-MODIFIED;TZID=Europe/Zurich;VALUE=DATE-TIME:20260114T055532
DTSTAMP;VALUE=DATE-TIME:20260623T210000Z
LOCATION:Konzertfabrik Z7, Kraftwerkstrasse 7, 4133 Pratteln
URL://www.xn--untergrund-blttle-2qb.ch/events/223752/black-label-society-konzertfabrik-z7-pratteln.html
END:VEVENT
BEGIN:VTIMEZONE
TZID:Europe/Zurich
X-LIC-LOCATION:Europe/Zurich
BEGIN:STANDARD
DTSTART;VALUE=DATE-TIME:20260623T210000
TZNAME:CET
TZOFFSETFROM:+0200
TZOFFSETTO:+0100
END:STANDARD
BEGIN:DAYLIGHT
DTSTART;VALUE=DATE-TIME:20260623T210000
TZNAME:CEST
TZOFFSETFROM:+0100
TZOFFSETTO:+0200
END:DAYLIGHT
BEGIN:STANDARD
DTSTART;VALUE=DATE-TIME:20260623T210000
TZNAME:CET
TZOFFSETFROM:+0200
TZOFFSETTO:+0100
END:STANDARD
END:VTIMEZONE
END:VCALENDAR