BEGIN:VCALENDAR
VERSION:2.0
PRODID:-//UB-Event
TZID:Europe/Zurich
X-WR-TIMEZONE:Europe/Zurich
CALSCALE:GREGORIAN
BEGIN:VEVENT
SUMMARY:Real Farmer / Zoomies
UID:222788
DTSTART;TZID=Europe/Zurich;VALUE=DATE-TIME:20260514T210000
DTEND;TZID=Europe/Zurich;VALUE=DATE-TIME:20260514T230000
LAST-MODIFIED;TZID=Europe/Zurich;VALUE=DATE-TIME:20260107T115508
DTSTAMP;VALUE=DATE-TIME:20260514T210000Z
LOCATION:Hirscheneck, Lindenberg 23, 4058 Basel
URL://www.xn--untergrund-blttle-2qb.ch/events/222788/real-farmer-zoomies-hirscheneck-basel.html
END:VEVENT
BEGIN:VTIMEZONE
TZID:Europe/Zurich
X-LIC-LOCATION:Europe/Zurich
BEGIN:STANDARD
DTSTART;VALUE=DATE-TIME:20260514T210000
TZNAME:CET
TZOFFSETFROM:+0200
TZOFFSETTO:+0100
END:STANDARD
BEGIN:DAYLIGHT
DTSTART;VALUE=DATE-TIME:20260514T210000
TZNAME:CEST
TZOFFSETFROM:+0100
TZOFFSETTO:+0200
END:DAYLIGHT
BEGIN:STANDARD
DTSTART;VALUE=DATE-TIME:20260514T210000
TZNAME:CET
TZOFFSETFROM:+0200
TZOFFSETTO:+0100
END:STANDARD
END:VTIMEZONE
END:VCALENDAR