BEGIN:VCALENDAR
VERSION:2.0
PRODID:-//UB-Event
TZID:Europe/Zurich
X-WR-TIMEZONE:Europe/Zurich
CALSCALE:GREGORIAN
BEGIN:VEVENT
SUMMARY:OUTspoken U20 Queer Poetry Slam
UID:222632
DTSTART;TZID=Europe/Zurich;VALUE=DATE-TIME:20261119T180000
DTEND;TZID=Europe/Zurich;VALUE=DATE-TIME:20261119T200000
LAST-MODIFIED;TZID=Europe/Zurich;VALUE=DATE-TIME:20260105T091122
DTSTAMP;VALUE=DATE-TIME:20261119T180000Z
LOCATION:Fluid, Große Beckstraße 12, 44787 Bochum
URL://www.xn--untergrund-blttle-2qb.ch/events/222632/outspoken-u20-queer-poetry-slam-fluid-bochum.html
END:VEVENT
BEGIN:VTIMEZONE
TZID:Europe/Zurich
X-LIC-LOCATION:Europe/Zurich
BEGIN:STANDARD
DTSTART;VALUE=DATE-TIME:20261119T180000
TZNAME:CET
TZOFFSETFROM:+0200
TZOFFSETTO:+0100
END:STANDARD
BEGIN:DAYLIGHT
DTSTART;VALUE=DATE-TIME:20261119T180000
TZNAME:CEST
TZOFFSETFROM:+0100
TZOFFSETTO:+0200
END:DAYLIGHT
BEGIN:STANDARD
DTSTART;VALUE=DATE-TIME:20261119T180000
TZNAME:CET
TZOFFSETFROM:+0200
TZOFFSETTO:+0100
END:STANDARD
END:VTIMEZONE
END:VCALENDAR