BEGIN:VCALENDAR
VERSION:2.0
PRODID:-//UB-Event
TZID:Europe/Zurich
X-WR-TIMEZONE:Europe/Zurich
CALSCALE:GREGORIAN
BEGIN:VEVENT
SUMMARY:Öffnungszeit | Infoladen Anschlag
UID:222470
DTSTART;TZID=Europe/Zurich;VALUE=DATE-TIME:20260423T190000
DTEND;TZID=Europe/Zurich;VALUE=DATE-TIME:20260423T210000
LAST-MODIFIED;TZID=Europe/Zurich;VALUE=DATE-TIME:20260103T061329
DTSTAMP;VALUE=DATE-TIME:20260423T190000Z
LOCATION:Infoladen Anschlag, Heeper Str. 132, 33607 Bielefeld
URL://www.xn--untergrund-blttle-2qb.ch/events/222470/offnungszeit-infoladen-anschlag-infoladen-anschlag-bielefeld.html
END:VEVENT
BEGIN:VTIMEZONE
TZID:Europe/Zurich
X-LIC-LOCATION:Europe/Zurich
BEGIN:STANDARD
DTSTART;VALUE=DATE-TIME:20260423T190000
TZNAME:CET
TZOFFSETFROM:+0200
TZOFFSETTO:+0100
END:STANDARD
BEGIN:DAYLIGHT
DTSTART;VALUE=DATE-TIME:20260423T190000
TZNAME:CEST
TZOFFSETFROM:+0100
TZOFFSETTO:+0200
END:DAYLIGHT
BEGIN:STANDARD
DTSTART;VALUE=DATE-TIME:20260423T190000
TZNAME:CET
TZOFFSETFROM:+0200
TZOFFSETTO:+0100
END:STANDARD
END:VTIMEZONE
END:VCALENDAR