BEGIN:VCALENDAR
VERSION:2.0
PRODID:-//UB-Event
TZID:Europe/Zurich
X-WR-TIMEZONE:Europe/Zurich
CALSCALE:GREGORIAN
BEGIN:VEVENT
SUMMARY:AllahLas
UID:222089
DTSTART;TZID=Europe/Zurich;VALUE=DATE-TIME:20260701T210000
DTEND;TZID=Europe/Zurich;VALUE=DATE-TIME:20260701T230000
LAST-MODIFIED;TZID=Europe/Zurich;VALUE=DATE-TIME:20260207T060709
DTSTAMP;VALUE=DATE-TIME:20260701T210000Z
LOCATION:Rocking Chair, Avenue de Gilamont 60, 1800 Vevey
URL://www.xn--untergrund-blttle-2qb.ch/events/222089/allahlas-rocking-chair-vevey.html
END:VEVENT
BEGIN:VTIMEZONE
TZID:Europe/Zurich
X-LIC-LOCATION:Europe/Zurich
BEGIN:STANDARD
DTSTART;VALUE=DATE-TIME:20260701T210000
TZNAME:CET
TZOFFSETFROM:+0200
TZOFFSETTO:+0100
END:STANDARD
BEGIN:DAYLIGHT
DTSTART;VALUE=DATE-TIME:20260701T210000
TZNAME:CEST
TZOFFSETFROM:+0100
TZOFFSETTO:+0200
END:DAYLIGHT
BEGIN:STANDARD
DTSTART;VALUE=DATE-TIME:20260701T210000
TZNAME:CET
TZOFFSETFROM:+0200
TZOFFSETTO:+0100
END:STANDARD
END:VTIMEZONE
END:VCALENDAR