BEGIN:VCALENDAR
VERSION:2.0
PRODID:-//UB-Event
TZID:Europe/Zurich
X-WR-TIMEZONE:Europe/Zurich
CALSCALE:GREGORIAN
BEGIN:VEVENT
SUMMARY:Amplifire Festival Tag 1
UID:221576
DTSTART;TZID=Europe/Zurich;VALUE=DATE-TIME:20260807T210000
DTEND;TZID=Europe/Zurich;VALUE=DATE-TIME:20260807T230000
LAST-MODIFIED;TZID=Europe/Zurich;VALUE=DATE-TIME:20251224T060610
DTSTAMP;VALUE=DATE-TIME:20260807T210000Z
LOCATION:MS Artville Gelände, Alte Schleuse 23, 21107 Hamburg
URL://www.xn--untergrund-blttle-2qb.ch/events/221576/amplifire-festival-tag-1-ms-artville-gelaende-hamburg.html
END:VEVENT
BEGIN:VTIMEZONE
TZID:Europe/Zurich
X-LIC-LOCATION:Europe/Zurich
BEGIN:STANDARD
DTSTART;VALUE=DATE-TIME:20260807T210000
TZNAME:CET
TZOFFSETFROM:+0200
TZOFFSETTO:+0100
END:STANDARD
BEGIN:DAYLIGHT
DTSTART;VALUE=DATE-TIME:20260807T210000
TZNAME:CEST
TZOFFSETFROM:+0100
TZOFFSETTO:+0200
END:DAYLIGHT
BEGIN:STANDARD
DTSTART;VALUE=DATE-TIME:20260807T210000
TZNAME:CET
TZOFFSETFROM:+0200
TZOFFSETTO:+0100
END:STANDARD
END:VTIMEZONE
END:VCALENDAR