BEGIN:VCALENDAR
VERSION:2.0
PRODID:-//UB-Event
TZID:Europe/Zurich
X-WR-TIMEZONE:Europe/Zurich
CALSCALE:GREGORIAN
BEGIN:VEVENT
SUMMARY:Fischermätteli Hood Gang & PVP
UID:221404
DTSTART;TZID=Europe/Zurich;VALUE=DATE-TIME:20261024T210000
DTEND;TZID=Europe/Zurich;VALUE=DATE-TIME:20261024T230000
LAST-MODIFIED;TZID=Europe/Zurich;VALUE=DATE-TIME:20251223T060713
DTSTAMP;VALUE=DATE-TIME:20261024T210000Z
LOCATION:Käptn Holger, Dorfstrasse 29, 3550 Langnau im Emmental
URL://www.xn--untergrund-blttle-2qb.ch/events/221404/fischermaetteli-hood-gang-pvp-kaeptn-holger-langnau-im-emmental.html
END:VEVENT
BEGIN:VTIMEZONE
TZID:Europe/Zurich
X-LIC-LOCATION:Europe/Zurich
BEGIN:STANDARD
DTSTART;VALUE=DATE-TIME:20261024T210000
TZNAME:CET
TZOFFSETFROM:+0200
TZOFFSETTO:+0100
END:STANDARD
BEGIN:DAYLIGHT
DTSTART;VALUE=DATE-TIME:20261024T210000
TZNAME:CEST
TZOFFSETFROM:+0100
TZOFFSETTO:+0200
END:DAYLIGHT
BEGIN:STANDARD
DTSTART;VALUE=DATE-TIME:20261024T210000
TZNAME:CET
TZOFFSETFROM:+0200
TZOFFSETTO:+0100
END:STANDARD
END:VTIMEZONE
END:VCALENDAR