BEGIN:VCALENDAR
VERSION:2.0
PRODID:-//UB-Event
TZID:Europe/Zurich
X-WR-TIMEZONE:Europe/Zurich
CALSCALE:GREGORIAN
BEGIN:VEVENT
SUMMARY:Queer Tresen
UID:221187
DTSTART;TZID=Europe/Zurich;VALUE=DATE-TIME:20260807T190000
DTEND;TZID=Europe/Zurich;VALUE=DATE-TIME:20260807T210000
LAST-MODIFIED;TZID=Europe/Zurich;VALUE=DATE-TIME:20251222T061120
DTSTAMP;VALUE=DATE-TIME:20260807T190000Z
LOCATION:Caféplus, Gnadenort 3 - 5, 44135 Dortmund
URL://www.xn--untergrund-blttle-2qb.ch/events/221187/queer-tresen-cafeplus-dortmund.html
END:VEVENT
BEGIN:VTIMEZONE
TZID:Europe/Zurich
X-LIC-LOCATION:Europe/Zurich
BEGIN:STANDARD
DTSTART;VALUE=DATE-TIME:20260807T190000
TZNAME:CET
TZOFFSETFROM:+0200
TZOFFSETTO:+0100
END:STANDARD
BEGIN:DAYLIGHT
DTSTART;VALUE=DATE-TIME:20260807T190000
TZNAME:CEST
TZOFFSETFROM:+0100
TZOFFSETTO:+0200
END:DAYLIGHT
BEGIN:STANDARD
DTSTART;VALUE=DATE-TIME:20260807T190000
TZNAME:CET
TZOFFSETFROM:+0200
TZOFFSETTO:+0100
END:STANDARD
END:VTIMEZONE
END:VCALENDAR