BEGIN:VCALENDAR
VERSION:2.0
PRODID:-//UB-Event
TZID:Europe/Zurich
X-WR-TIMEZONE:Europe/Zurich
CALSCALE:GREGORIAN
BEGIN:VEVENT
SUMMARY:Thaibox-Kondi für FLINTA
UID:220057
DTSTART;TZID=Europe/Zurich;VALUE=DATE-TIME:20260713T181500
DTEND;TZID=Europe/Zurich;VALUE=DATE-TIME:20260713T201500
LAST-MODIFIED;TZID=Europe/Zurich;VALUE=DATE-TIME:20251209T162201
DTSTAMP;VALUE=DATE-TIME:20260713T181500Z
LOCATION:BiK-Raum, Vaubanallee 8, 79100 Freiburg im Breisgau
URL://www.xn--untergrund-blttle-2qb.ch/events/220057/thaibox-kondi-fuer-flinta-bik-raum-freiburg-im-breisgau.html
END:VEVENT
BEGIN:VTIMEZONE
TZID:Europe/Zurich
X-LIC-LOCATION:Europe/Zurich
BEGIN:STANDARD
DTSTART;VALUE=DATE-TIME:20260713T181500
TZNAME:CET
TZOFFSETFROM:+0200
TZOFFSETTO:+0100
END:STANDARD
BEGIN:DAYLIGHT
DTSTART;VALUE=DATE-TIME:20260713T181500
TZNAME:CEST
TZOFFSETFROM:+0100
TZOFFSETTO:+0200
END:DAYLIGHT
BEGIN:STANDARD
DTSTART;VALUE=DATE-TIME:20260713T181500
TZNAME:CET
TZOFFSETFROM:+0200
TZOFFSETTO:+0100
END:STANDARD
END:VTIMEZONE
END:VCALENDAR