BEGIN:VCALENDAR
VERSION:2.0
PRODID:-//UB-Event
TZID:Europe/Zurich
X-WR-TIMEZONE:Europe/Zurich
CALSCALE:GREGORIAN
BEGIN:VEVENT
SUMMARY:Wet Leg
UID:219564
DTSTART;TZID=Europe/Zurich;VALUE=DATE-TIME:20260625T210000
DTEND;TZID=Europe/Zurich;VALUE=DATE-TIME:20260625T230000
LAST-MODIFIED;TZID=Europe/Zurich;VALUE=DATE-TIME:20251208T120708
DTSTAMP;VALUE=DATE-TIME:20260625T210000Z
LOCATION:Openair St. Gallen, Heiligkreuzstrasse 9, 9008 St. Gallen
URL://www.xn--untergrund-blttle-2qb.ch/events/219564/wet-leg-openair-st-gallen-st-gallen.html
END:VEVENT
BEGIN:VTIMEZONE
TZID:Europe/Zurich
X-LIC-LOCATION:Europe/Zurich
BEGIN:STANDARD
DTSTART;VALUE=DATE-TIME:20260625T210000
TZNAME:CET
TZOFFSETFROM:+0200
TZOFFSETTO:+0100
END:STANDARD
BEGIN:DAYLIGHT
DTSTART;VALUE=DATE-TIME:20260625T210000
TZNAME:CEST
TZOFFSETFROM:+0100
TZOFFSETTO:+0200
END:DAYLIGHT
BEGIN:STANDARD
DTSTART;VALUE=DATE-TIME:20260625T210000
TZNAME:CET
TZOFFSETFROM:+0200
TZOFFSETTO:+0100
END:STANDARD
END:VTIMEZONE
END:VCALENDAR