BEGIN:VCALENDAR
VERSION:2.0
PRODID:-//UB-Event
TZID:Europe/Zurich
X-WR-TIMEZONE:Europe/Zurich
CALSCALE:GREGORIAN
BEGIN:VEVENT
SUMMARY:Offenes Antifaschistisches Treffen Karlsruhe
UID:219535
DTSTART;TZID=Europe/Zurich;VALUE=DATE-TIME:20260604T190000
DTEND;TZID=Europe/Zurich;VALUE=DATE-TIME:20260604T210000
LAST-MODIFIED;TZID=Europe/Zurich;VALUE=DATE-TIME:20251208T114850
DTSTAMP;VALUE=DATE-TIME:20260604T190000Z
LOCATION:Barrio 137, Luisenstraße 31, 76137 Karlsruhe
URL://www.xn--untergrund-blttle-2qb.ch/events/219535/offenes-antifaschistisches-treffen-karlsruhe-barrio-137-karlsruhe.html
END:VEVENT
BEGIN:VTIMEZONE
TZID:Europe/Zurich
X-LIC-LOCATION:Europe/Zurich
BEGIN:STANDARD
DTSTART;VALUE=DATE-TIME:20260604T190000
TZNAME:CET
TZOFFSETFROM:+0200
TZOFFSETTO:+0100
END:STANDARD
BEGIN:DAYLIGHT
DTSTART;VALUE=DATE-TIME:20260604T190000
TZNAME:CEST
TZOFFSETFROM:+0100
TZOFFSETTO:+0200
END:DAYLIGHT
BEGIN:STANDARD
DTSTART;VALUE=DATE-TIME:20260604T190000
TZNAME:CET
TZOFFSETFROM:+0200
TZOFFSETTO:+0100
END:STANDARD
END:VTIMEZONE
END:VCALENDAR